BEGIN:VCALENDAR
VERSION:2.0
PRODID:-//Ariinfo - ECPv5.1.0//NONSGML v1.0//EN
CALSCALE:GREGORIAN
METHOD:PUBLISH
X-WR-CALNAME:Ariinfo
X-ORIGINAL-URL:https://ariinfo.ee/ru/
X-WR-CALDESC:События для Ariinfo
BEGIN:VTIMEZONE
TZID:Europe/Helsinki
BEGIN:DAYLIGHT
TZOFFSETFROM:+0200
TZOFFSETTO:+0300
TZNAME:EEST
DTSTART:20260329T010000
END:DAYLIGHT
BEGIN:STANDARD
TZOFFSETFROM:+0300
TZOFFSETTO:+0200
TZNAME:EET
DTSTART:20261025T010000
END:STANDARD
END:VTIMEZONE
BEGIN:VEVENT
DTSTART;TZID=Europe/Helsinki:20260420T020419
DTEND;TZID=Europe/Helsinki:20260420T020419
DTSTAMP:20260420T020419
CREATED:20240917T225418Z
LAST-MODIFIED:20240917T225418Z
UID:23039-1776650659-1776650659@ariinfo.ee
SUMMARY:Установка и реновация трубопроводов. Технология NoDig (бестраншейная)
DESCRIPTION:
URL:https://ariinfo.ee/ru/event/ustanovka-i-renovacziya-truboprovodov-tehnologiya-nodig-bestranshejnaya/
END:VEVENT
END:VCALENDAR