BEGIN:VCALENDAR
VERSION:2.0
PRODID:-//Ariinfo - ECPv5.1.0//NONSGML v1.0//EN
CALSCALE:GREGORIAN
METHOD:PUBLISH
X-WR-CALNAME:Ariinfo
X-ORIGINAL-URL:https://ariinfo.ee/ru/
X-WR-CALDESC:События для Ariinfo
BEGIN:VTIMEZONE
TZID:Europe/Helsinki
BEGIN:DAYLIGHT
TZOFFSETFROM:+0200
TZOFFSETTO:+0300
TZNAME:EEST
DTSTART:20260329T010000
END:DAYLIGHT
BEGIN:STANDARD
TZOFFSETFROM:+0300
TZOFFSETTO:+0200
TZNAME:EET
DTSTART:20261025T010000
END:STANDARD
END:VTIMEZONE
BEGIN:VEVENT
DTSTART;TZID=Europe/Helsinki:20260425T161215
DTEND;TZID=Europe/Helsinki:20260425T161215
DTSTAMP:20260425T161215
CREATED:20240511T120216Z
LAST-MODIFIED:20240511T120216Z
UID:21017-1777133535-1777133535@ariinfo.ee
SUMMARY:Puithoonete biokahjustused. Põhjused ja kaitse võimalused.
DESCRIPTION:
URL:https://ariinfo.ee/ru/event/puithoonete-biokahjustused-pohjused-ja-kaitse-voimalused/
END:VEVENT
END:VCALENDAR