BEGIN:VCALENDAR
VERSION:2.0
PRODID:-//Ariinfo - ECPv5.1.0//NONSGML v1.0//EN
CALSCALE:GREGORIAN
METHOD:PUBLISH
X-WR-CALNAME:Ariinfo
X-ORIGINAL-URL:https://ariinfo.ee/ru/
X-WR-CALDESC:События для Ariinfo
BEGIN:VTIMEZONE
TZID:Europe/Helsinki
BEGIN:DAYLIGHT
TZOFFSETFROM:+0200
TZOFFSETTO:+0300
TZNAME:EEST
DTSTART:20220327T010000
END:DAYLIGHT
BEGIN:STANDARD
TZOFFSETFROM:+0300
TZOFFSETTO:+0200
TZNAME:EET
DTSTART:20221030T010000
END:STANDARD
END:VTIMEZONE
BEGIN:VEVENT
DTSTART;TZID=Europe/Helsinki:20220929T100000
DTEND;TZID=Europe/Helsinki:20220929T154500
DTSTAMP:20260419T194639
CREATED:20220824T143834Z
LAST-MODIFIED:20260113T111619Z
UID:13336-1664445600-1664466300@ariinfo.ee
SUMMARY:Онлайн – Управление строительным проектом и объектом
DESCRIPTION:
URL:https://ariinfo.ee/ru/event/onlajn-upravlenie-stroitelnym-pro-2/
END:VEVENT
END:VCALENDAR