BEGIN:VCALENDAR
VERSION:2.0
PRODID:-//Ariinfo - ECPv5.1.0//NONSGML v1.0//EN
CALSCALE:GREGORIAN
METHOD:PUBLISH
X-WR-CALNAME:Ariinfo
X-ORIGINAL-URL:https://ariinfo.ee/ru/
X-WR-CALDESC:События для Ariinfo
BEGIN:VTIMEZONE
TZID:Europe/Helsinki
BEGIN:DAYLIGHT
TZOFFSETFROM:+0200
TZOFFSETTO:+0300
TZNAME:EEST
DTSTART:20220327T010000
END:DAYLIGHT
BEGIN:STANDARD
TZOFFSETFROM:+0300
TZOFFSETTO:+0200
TZNAME:EET
DTSTART:20221030T010000
END:STANDARD
END:VTIMEZONE
BEGIN:VEVENT
DTSTART;TZID=Europe/Helsinki:20221117T100000
DTEND;TZID=Europe/Helsinki:20221117T154500
DTSTAMP:20260419T212455
CREATED:20220825T095534Z
LAST-MODIFIED:20260113T123528Z
UID:13368-1668679200-1668699900@ariinfo.ee
SUMMARY:Онлайн – Надзор собственника. Закон. Практика. Ошибки
DESCRIPTION:
URL:https://ariinfo.ee/ru/event/onlajn-nadzor-sobstvennika-zakon-p-2/
END:VEVENT
END:VCALENDAR