BEGIN:VCALENDAR
VERSION:2.0
PRODID:-//Ariinfo - ECPv5.1.0//NONSGML v1.0//EN
CALSCALE:GREGORIAN
METHOD:PUBLISH
X-WR-CALNAME:Ariinfo
X-ORIGINAL-URL:https://ariinfo.ee/ru/
X-WR-CALDESC:События для Ariinfo
BEGIN:VTIMEZONE
TZID:Europe/Helsinki
BEGIN:DAYLIGHT
TZOFFSETFROM:+0200
TZOFFSETTO:+0300
TZNAME:EEST
DTSTART:20260329T010000
END:DAYLIGHT
BEGIN:STANDARD
TZOFFSETFROM:+0300
TZOFFSETTO:+0200
TZNAME:EET
DTSTART:20261025T010000
END:STANDARD
END:VTIMEZONE
BEGIN:VEVENT
DTSTART;TZID=Europe/Helsinki:20260420T110000
DTEND;TZID=Europe/Helsinki:20260420T160000
DTSTAMP:20260420T064847
CREATED:20240516T191304Z
LAST-MODIFIED:20240516T191304Z
UID:21217-1776682800-1776700800@ariinfo.ee
SUMMARY:Keevituse kvaliteet. Reeglid\, vead ja kitsad kohad.
DESCRIPTION:
URL:https://ariinfo.ee/ru/event/keevituse-kvaliteet-reeglid-vead-ja-kitsad-kohad-4/
END:VEVENT
END:VCALENDAR