BEGIN:VCALENDAR
VERSION:2.0
PRODID:-//Ariinfo - ECPv5.1.0//NONSGML v1.0//EN
CALSCALE:GREGORIAN
METHOD:PUBLISH
X-WR-CALNAME:Ariinfo
X-ORIGINAL-URL:https://ariinfo.ee/ru/
X-WR-CALDESC:События для Ariinfo
BEGIN:VTIMEZONE
TZID:Europe/Helsinki
BEGIN:DAYLIGHT
TZOFFSETFROM:+0200
TZOFFSETTO:+0300
TZNAME:EEST
DTSTART:20260329T010000
END:DAYLIGHT
BEGIN:STANDARD
TZOFFSETFROM:+0300
TZOFFSETTO:+0200
TZNAME:EET
DTSTART:20261025T010000
END:STANDARD
END:VTIMEZONE
BEGIN:VEVENT
DTSTART;TZID=Europe/Helsinki:20260422T170528
DTEND;TZID=Europe/Helsinki:20260422T170528
DTSTAMP:20260422T170528
CREATED:20240511T120133Z
LAST-MODIFIED:20240511T120133Z
UID:20905-1776877528-1776877528@ariinfo.ee
SUMMARY:Elektriturg\, hinnad ja võrgutasud 2024. Reeglid ja kuidas vältida vigu
DESCRIPTION:
URL:https://ariinfo.ee/ru/event/elektriturg-hinnad-ja-vorgutasud-2024-reeglid-ja-kuidas-valtida-vigu/
END:VEVENT
END:VCALENDAR