BEGIN:VCALENDAR
VERSION:2.0
PRODID:-//Ariinfo - ECPv5.1.0//NONSGML v1.0//EN
CALSCALE:GREGORIAN
METHOD:PUBLISH
X-WR-CALNAME:Ariinfo
X-ORIGINAL-URL:https://ariinfo.ee/ru/
X-WR-CALDESC:События для Ariinfo
BEGIN:VTIMEZONE
TZID:Europe/Helsinki
BEGIN:DAYLIGHT
TZOFFSETFROM:+0200
TZOFFSETTO:+0300
TZNAME:EEST
DTSTART:20260329T010000
END:DAYLIGHT
BEGIN:STANDARD
TZOFFSETFROM:+0300
TZOFFSETTO:+0200
TZNAME:EET
DTSTART:20261025T010000
END:STANDARD
END:VTIMEZONE
BEGIN:VEVENT
DTSTART;TZID=Europe/Helsinki:20260420T110000
DTEND;TZID=Europe/Helsinki:20260420T170000
DTSTAMP:20260420T113057
CREATED:20240516T121030Z
LAST-MODIFIED:20240516T121030Z
UID:21206-1776682800-1776704400@ariinfo.ee
SUMMARY:EHR praktiline meistriklass.  Ehitus- ja kasutusloa taotlemine.
DESCRIPTION:
URL:https://ariinfo.ee/ru/event/ehr-praktiline-meistriklass-ehitus-ja-kasutusloa-taotlemine-8/
END:VEVENT
END:VCALENDAR