BEGIN:VCALENDAR
VERSION:2.0
PRODID:-//Ariinfo - ECPv5.1.0//NONSGML v1.0//EN
CALSCALE:GREGORIAN
METHOD:PUBLISH
X-WR-CALNAME:Ariinfo
X-ORIGINAL-URL:https://ariinfo.ee/ru/
X-WR-CALDESC:События для Ariinfo
BEGIN:VTIMEZONE
TZID:Europe/Helsinki
BEGIN:DAYLIGHT
TZOFFSETFROM:+0200
TZOFFSETTO:+0300
TZNAME:EEST
DTSTART:20220327T010000
END:DAYLIGHT
BEGIN:STANDARD
TZOFFSETFROM:+0300
TZOFFSETTO:+0200
TZNAME:EET
DTSTART:20221030T010000
END:STANDARD
END:VTIMEZONE
BEGIN:VEVENT
DTSTART;TZID=Europe/Helsinki:20221125T110000
DTEND;TZID=Europe/Helsinki:20221125T153000
DTSTAMP:20260419T230538
CREATED:20221007T130638Z
LAST-MODIFIED:20230729T083430Z
UID:13545-1669374000-1669390200@ariinfo.ee
SUMMARY:Первичное обучение по радиационной безопасности
DESCRIPTION:
URL:https://ariinfo.ee/ru/event/%d0%bf%d0%b5%d1%80%d0%b2%d0%b8%d1%87%d0%bd%d0%be%d0%b5-%d0%be%d0%b1%d1%83%d1%87%d0%b5%d0%bd%d0%b8%d0%b5-%d0%bf%d0%be-%d1%80%d0%b0%d0%b4%d0%b8%d0%b0%d1%86%d0%b8%d0%be%d0%bd%d0%bd%d0%be%d0%b9-%d0%b1-5/
END:VEVENT
END:VCALENDAR