BEGIN:VCALENDAR
VERSION:2.0
PRODID:-//Ariinfo - ECPv5.1.0//NONSGML v1.0//EN
CALSCALE:GREGORIAN
METHOD:PUBLISH
X-WR-CALNAME:Ariinfo
X-ORIGINAL-URL:https://ariinfo.ee/ru/
X-WR-CALDESC:События для Ariinfo
BEGIN:VTIMEZONE
TZID:Europe/Helsinki
BEGIN:DAYLIGHT
TZOFFSETFROM:+0200
TZOFFSETTO:+0300
TZNAME:EEST
DTSTART:20230326T010000
END:DAYLIGHT
BEGIN:STANDARD
TZOFFSETFROM:+0300
TZOFFSETTO:+0200
TZNAME:EET
DTSTART:20231029T010000
END:STANDARD
END:VTIMEZONE
BEGIN:VEVENT
DTSTART;TZID=Europe/Helsinki:20230120T100000
DTEND;TZID=Europe/Helsinki:20230120T154500
DTSTAMP:20260422T160405
CREATED:20230104T095809Z
LAST-MODIFIED:20230729T083430Z
UID:14339-1674208800-1674229500@ariinfo.ee
SUMMARY:Онлайн – Управление строительным проектом и объектом
DESCRIPTION:
URL:https://ariinfo.ee/ru/event/%d0%be%d0%bd%d0%bb%d0%b0%d0%b9%d0%bd-%d1%83%d0%bf%d1%80%d0%b0%d0%b2%d0%bb%d0%b5%d0%bd%d0%b8%d0%b5-%d1%81%d1%82%d1%80%d0%be%d0%b8%d1%82%d0%b5%d0%bb%d1%8c%d0%bd%d1%8b%d0%bc-%d0%bf%d1%80%d0%be-4/
END:VEVENT
END:VCALENDAR