BEGIN:VCALENDAR
VERSION:2.0
PRODID:-//Ariinfo - ECPv5.1.0//NONSGML v1.0//EN
CALSCALE:GREGORIAN
METHOD:PUBLISH
X-WR-CALNAME:Ariinfo
X-ORIGINAL-URL:https://ariinfo.ee/ru/
X-WR-CALDESC:События для Ariinfo
BEGIN:VTIMEZONE
TZID:Europe/Helsinki
BEGIN:DAYLIGHT
TZOFFSETFROM:+0200
TZOFFSETTO:+0300
TZNAME:EEST
DTSTART:20210328T010000
END:DAYLIGHT
BEGIN:STANDARD
TZOFFSETFROM:+0300
TZOFFSETTO:+0200
TZNAME:EET
DTSTART:20211031T010000
END:STANDARD
END:VTIMEZONE
BEGIN:VEVENT
DTSTART;TZID=Europe/Helsinki:20210115T100000
DTEND;TZID=Europe/Helsinki:20210115T160000
DTSTAMP:20260419T202822
CREATED:20210316T133205Z
LAST-MODIFIED:20230729T083433Z
UID:10456-1610704800-1610726400@ariinfo.ee
SUMMARY:Онлайн — Выполнение проекта с несколькими зданиями. Практика разумной организации строительных процессов
DESCRIPTION:
URL:https://ariinfo.ee/ru/event/%d0%be%d0%bd%d0%bb%d0%b0%d0%b9%d0%bd-%d0%b2%d1%8b%d0%bf%d0%be%d0%bb%d0%bd%d0%b5%d0%bd%d0%b8%d0%b5-%d0%bf%d1%80%d0%be%d0%b5%d0%ba%d1%82%d0%b0-%d1%81-%d0%bd%d0%b5%d1%81%d0%ba%d0%be%d0%bb%d1%8c/
END:VEVENT
END:VCALENDAR