BEGIN:VCALENDAR
VERSION:2.0
PRODID:-//Ariinfo - ECPv5.1.0//NONSGML v1.0//EN
CALSCALE:GREGORIAN
METHOD:PUBLISH
X-WR-CALNAME:Ariinfo
X-ORIGINAL-URL:https://ariinfo.ee/ru/
X-WR-CALDESC:События для Ariinfo
BEGIN:VTIMEZONE
TZID:Europe/Helsinki
BEGIN:DAYLIGHT
TZOFFSETFROM:+0200
TZOFFSETTO:+0300
TZNAME:EEST
DTSTART:20220327T010000
END:DAYLIGHT
BEGIN:STANDARD
TZOFFSETFROM:+0300
TZOFFSETTO:+0200
TZNAME:EET
DTSTART:20221030T010000
END:STANDARD
END:VTIMEZONE
BEGIN:VEVENT
DTSTART;TZID=Europe/Helsinki:20220915T110000
DTEND;TZID=Europe/Helsinki:20220915T163000
DTSTAMP:20260419T182015
CREATED:20220615T095802Z
LAST-MODIFIED:20230729T083430Z
UID:13195-1663239600-1663259400@ariinfo.ee
SUMMARY:НОВЫЙ стандарт. Управление и автоматизация инженерных систем. Умные решения и схемы
DESCRIPTION:
URL:https://ariinfo.ee/ru/event/%d0%bd%d0%be%d0%b2%d1%8b%d0%b9-%d1%81%d1%82%d0%b0%d0%bd%d0%b4%d0%b0%d1%80%d1%82-%d1%83%d0%bf%d1%80%d0%b0%d0%b2%d0%bb%d0%b5%d0%bd%d0%b8%d0%b5-%d0%b8-%d0%b0%d0%b2%d1%82%d0%be%d0%bc%d0%b0%d1%82%d0%b8/
END:VEVENT
END:VCALENDAR