BEGIN:VCALENDAR
VERSION:2.0
PRODID:-//Ariinfo - ECPv5.1.0//NONSGML v1.0//EN
CALSCALE:GREGORIAN
METHOD:PUBLISH
X-WR-CALNAME:Ariinfo
X-ORIGINAL-URL:https://ariinfo.ee/ru/
X-WR-CALDESC:События для Ariinfo
BEGIN:VTIMEZONE
TZID:Europe/Moscow
BEGIN:STANDARD
TZOFFSETFROM:+0300
TZOFFSETTO:+0300
TZNAME:MSK
DTSTART:20200101T000000
END:STANDARD
END:VTIMEZONE
BEGIN:VEVENT
DTSTART;TZID=Europe/Moscow:20201111T110000
DTEND;TZID=Europe/Moscow:20201111T163000
DTSTAMP:20260420T144027
CREATED:20201007T110500Z
LAST-MODIFIED:20230729T083434Z
UID:9053-1605092400-1605112200@ariinfo.ee
SUMMARY:Металлоконструкции. Требования к проекту\, промышленным чертежам\, изготовлению и установке. Примеры ошибок
DESCRIPTION:
URL:https://ariinfo.ee/ru/event/%d0%bc%d0%b5%d1%82%d0%b0%d0%bb%d0%bb%d0%be%d0%ba%d0%be%d0%bd%d1%81%d1%82%d1%80%d1%83%d0%ba%d1%86%d0%b8%d0%b8-%d1%82%d1%80%d0%b5%d0%b1/
LOCATION:Ariinfo\, Peterburi tee 90f\, Tallinn
END:VEVENT
END:VCALENDAR