BEGIN:VCALENDAR
VERSION:2.0
PRODID:-//Ariinfo - ECPv5.1.0//NONSGML v1.0//EN
CALSCALE:GREGORIAN
METHOD:PUBLISH
X-WR-CALNAME:Ariinfo
X-ORIGINAL-URL:https://ariinfo.ee/ru/
X-WR-CALDESC:События для Ariinfo
BEGIN:VTIMEZONE
TZID:Europe/Helsinki
BEGIN:DAYLIGHT
TZOFFSETFROM:+0200
TZOFFSETTO:+0300
TZNAME:EEST
DTSTART:20230326T010000
END:DAYLIGHT
BEGIN:STANDARD
TZOFFSETFROM:+0300
TZOFFSETTO:+0200
TZNAME:EET
DTSTART:20231029T010000
END:STANDARD
END:VTIMEZONE
BEGIN:VEVENT
DTSTART;TZID=Europe/Helsinki:20230518T100000
DTEND;TZID=Europe/Helsinki:20230518T154500
DTSTAMP:20260425T235915
CREATED:20230330T110849Z
LAST-MODIFIED:20230729T083429Z
UID:15017-1684404000-1684424700@ariinfo.ee
SUMMARY:Теплопроводность ограждающих конструкций. Проблемы выбора фасадных систем
DESCRIPTION:
URL:https://ariinfo.ee/ru/event/%d0%b8%d0%bd%d0%b6%d0%b5%d0%bd%d0%b5%d1%80%d0%bd%d0%be-%d1%82%d0%b5%d1%85%d0%bd%d0%b8%d1%87%d0%b5%d1%81%d0%ba%d0%b8%d0%b5-%d0%be%d1%88%d0%b8%d0%b1%d0%ba%d0%b8-%d0%b8-%d0%b8%d1%85-%d1%80%d0%b5%d1%88/
END:VEVENT
END:VCALENDAR