BEGIN:VCALENDAR
VERSION:2.0
PRODID:-//Ariinfo - ECPv5.1.0//NONSGML v1.0//EN
CALSCALE:GREGORIAN
METHOD:PUBLISH
X-WR-CALNAME:Ariinfo
X-ORIGINAL-URL:https://ariinfo.ee/ru/
X-WR-CALDESC:События для Ariinfo
BEGIN:VTIMEZONE
TZID:Europe/Helsinki
BEGIN:DAYLIGHT
TZOFFSETFROM:+0200
TZOFFSETTO:+0300
TZNAME:EEST
DTSTART:20210328T010000
END:DAYLIGHT
BEGIN:STANDARD
TZOFFSETFROM:+0300
TZOFFSETTO:+0200
TZNAME:EET
DTSTART:20211031T010000
END:STANDARD
END:VTIMEZONE
BEGIN:VEVENT
DTSTART;TZID=Europe/Helsinki:20210311T100000
DTEND;TZID=Europe/Helsinki:20210311T163000
DTSTAMP:20260419T142931
CREATED:20210127T090835Z
LAST-MODIFIED:20230729T083433Z
UID:9965-1615456800-1615480200@ariinfo.ee
SUMMARY:Внешняя канализация. Проектирование канализационных сетей. Элементы сети - колодцы: критерии планирования и выбора\, наблюдения из практики
DESCRIPTION:
URL:https://ariinfo.ee/ru/event/%d0%b2%d0%bd%d0%b5%d1%88%d0%bd%d1%8f%d1%8f-%d0%ba%d0%b0%d0%bd%d0%b0%d0%bb%d0%b8%d0%b7%d0%b0%d1%86%d0%b8%d1%8f-%d0%bf%d1%80%d0%be%d0%b5%d0%ba%d1%82%d0%b8%d1%80%d0%be%d0%b2%d0%b0%d0%bd%d0%b8%d0%b5-2/
END:VEVENT
END:VCALENDAR