BEGIN:VCALENDAR
VERSION:2.0
PRODID:-//Ariinfo - ECPv5.1.0//NONSGML v1.0//EN
CALSCALE:GREGORIAN
METHOD:PUBLISH
X-WR-CALNAME:Ariinfo
X-ORIGINAL-URL:https://ariinfo.ee/ru/
X-WR-CALDESC:События для Ariinfo
BEGIN:VTIMEZONE
TZID:Europe/Helsinki
BEGIN:DAYLIGHT
TZOFFSETFROM:+0200
TZOFFSETTO:+0300
TZNAME:EEST
DTSTART:20230326T010000
END:DAYLIGHT
BEGIN:STANDARD
TZOFFSETFROM:+0300
TZOFFSETTO:+0200
TZNAME:EET
DTSTART:20231029T010000
END:STANDARD
END:VTIMEZONE
BEGIN:VEVENT
DTSTART;TZID=Europe/Helsinki:20230302T110000
DTEND;TZID=Europe/Helsinki:20230302T160000
DTSTAMP:20260422T205855
CREATED:20230131T085417Z
LAST-MODIFIED:20230729T083429Z
UID:14532-1677754800-1677772800@ariinfo.ee
SUMMARY:Вентилируемые фасады в Эстонии. Новый стандарт EVS 920-8
DESCRIPTION:
URL:https://ariinfo.ee/ru/event/%d0%b2%d0%b5%d0%bd%d1%82%d0%b8%d0%bb%d0%b8%d1%80%d1%83%d0%b5%d0%bc%d1%8b%d0%b5-%d1%84%d0%b0%d1%81%d0%b0%d0%b4%d1%8b-%d0%b2-%d1%8d%d1%81%d1%82%d0%be%d0%bd%d0%b8%d0%b8-%d0%b8%d0%b7%d0%bc%d0%b5%d0%bd/
END:VEVENT
END:VCALENDAR