BEGIN:VCALENDAR
VERSION:2.0
PRODID:-//Ariinfo - ECPv5.1.0//NONSGML v1.0//EN
CALSCALE:GREGORIAN
METHOD:PUBLISH
X-WR-CALNAME:Ariinfo
X-ORIGINAL-URL:https://ariinfo.ee/ru/
X-WR-CALDESC:События для Ariinfo
BEGIN:VTIMEZONE
TZID:Europe/Helsinki
BEGIN:DAYLIGHT
TZOFFSETFROM:+0200
TZOFFSETTO:+0300
TZNAME:EEST
DTSTART:20200329T010000
END:DAYLIGHT
BEGIN:STANDARD
TZOFFSETFROM:+0300
TZOFFSETTO:+0200
TZNAME:EET
DTSTART:20201025T010000
END:STANDARD
END:VTIMEZONE
BEGIN:VEVENT
DTSTART;TZID=Europe/Helsinki:20200827T110000
DTEND;TZID=Europe/Helsinki:20200827T163000
DTSTAMP:20260421T031711
CREATED:20210316T133208Z
LAST-MODIFIED:20230729T083434Z
UID:10470-1598526000-1598545800@ariinfo.ee
SUMMARY:Бетонные полы. Технологии установки. Требования и ошибки работ с точки зрения надзора собственника
DESCRIPTION:
URL:https://ariinfo.ee/ru/event/%d0%b1%d0%b5%d1%82%d0%be%d0%bd%d0%bd%d1%8b%d0%b5-%d0%bf%d0%be%d0%bb%d1%8b-%d1%82%d0%b5%d1%85%d0%bd%d0%be%d0%bb%d0%be%d0%b3%d0%b8%d0%b8-%d1%83%d1%81%d1%82%d0%b0%d0%bd%d0%be%d0%b2%d0%ba%d0%b8-%d1%82/
END:VEVENT
END:VCALENDAR