BEGIN:VCALENDAR
VERSION:2.0
PRODID:-//Ariinfo - ECPv5.1.0//NONSGML v1.0//EN
CALSCALE:GREGORIAN
METHOD:PUBLISH
X-WR-CALNAME:Ariinfo
X-ORIGINAL-URL:https://ariinfo.ee/ru/
X-WR-CALDESC:События для Ariinfo
BEGIN:VTIMEZONE
TZID:Europe/Helsinki
BEGIN:DAYLIGHT
TZOFFSETFROM:+0200
TZOFFSETTO:+0300
TZNAME:EEST
DTSTART:20190331T010000
END:DAYLIGHT
BEGIN:STANDARD
TZOFFSETFROM:+0300
TZOFFSETTO:+0200
TZNAME:EET
DTSTART:20191027T010000
END:STANDARD
END:VTIMEZONE
BEGIN:VEVENT
DTSTART;TZID=Europe/Helsinki:20190815T100000
DTEND;TZID=Europe/Helsinki:20190815T150000
DTSTAMP:20260419T194357
CREATED:20210316T133219Z
LAST-MODIFIED:20230729T083436Z
UID:10512-1565863200-1565881200@ariinfo.ee
SUMMARY:Балконные конструкции из железобетона. Процессы разложения. Ремонт и реновация
DESCRIPTION:
URL:https://ariinfo.ee/ru/event/%d0%b1%d0%b0%d0%bb%d0%ba%d0%be%d0%bd%d0%bd%d1%8b%d0%b5-%d0%ba%d0%be%d0%bd%d1%81%d1%82%d1%80%d1%83%d0%ba%d1%86%d0%b8%d0%b8-%d0%b8%d0%b7-%d0%b6%d0%b5%d0%bb%d0%b5%d0%b7%d0%be%d0%b1%d0%b5%d1%82%d0%be/
END:VEVENT
END:VCALENDAR