BEGIN:VCALENDAR
VERSION:2.0
PRODID:-//Ariinfo - ECPv5.1.0//NONSGML v1.0//EN
CALSCALE:GREGORIAN
METHOD:PUBLISH
X-WR-CALNAME:Ariinfo
X-ORIGINAL-URL:https://ariinfo.ee
X-WR-CALDESC:Events for Ariinfo
BEGIN:VTIMEZONE
TZID:Europe/Helsinki
BEGIN:DAYLIGHT
TZOFFSETFROM:+0200
TZOFFSETTO:+0300
TZNAME:EEST
DTSTART:20240331T010000
END:DAYLIGHT
BEGIN:STANDARD
TZOFFSETFROM:+0300
TZOFFSETTO:+0200
TZNAME:EET
DTSTART:20241027T010000
END:STANDARD
END:VTIMEZONE
BEGIN:VEVENT
DTSTART;TZID=Europe/Helsinki:20241016T110000
DTEND;TZID=Europe/Helsinki:20241016T151500
DTSTAMP:20260419T151210
CREATED:20240410T144211Z
LAST-MODIFIED:20241016T092529Z
UID:20129-1729076400-1729091700@ariinfo.ee
SUMMARY:Elektriturg\, hinnad ja võrgutasud 2024 Hinna arvutamise reeglid ja kooskõlastused
DESCRIPTION:
URL:https://ariinfo.ee/event/vorgutasud-2024-reeglid-ja-vead-arvutamisel/
END:VEVENT
END:VCALENDAR