BEGIN:VCALENDAR
VERSION:2.0
PRODID:-//Ariinfo - ECPv5.1.0//NONSGML v1.0//EN
CALSCALE:GREGORIAN
METHOD:PUBLISH
X-WR-CALNAME:Ariinfo
X-ORIGINAL-URL:https://ariinfo.ee
X-WR-CALDESC:Events for Ariinfo
BEGIN:VTIMEZONE
TZID:Europe/Helsinki
BEGIN:DAYLIGHT
TZOFFSETFROM:+0200
TZOFFSETTO:+0300
TZNAME:EEST
DTSTART:20210328T010000
END:DAYLIGHT
BEGIN:STANDARD
TZOFFSETFROM:+0300
TZOFFSETTO:+0200
TZNAME:EET
DTSTART:20211031T010000
END:STANDARD
END:VTIMEZONE
BEGIN:VEVENT
DTSTART;TZID=Europe/Helsinki:20211116T100000
DTEND;TZID=Europe/Helsinki:20211116T173000
DTSTAMP:20260421T165139
CREATED:20210930T112452Z
LAST-MODIFIED:20240115T074612Z
UID:11906-1637056800-1637083800@ariinfo.ee
SUMMARY:Vedelplast hüdroisolatsioon. Saksamaa kogemus
DESCRIPTION:
URL:https://ariinfo.ee/event/vettpidavad-lahendused-hoonete-ja-rajatiste-projekteerimisel-ja-ehitamisel-saksamaa-kogemus/
END:VEVENT
END:VCALENDAR