BEGIN:VCALENDAR
VERSION:2.0
PRODID:-//Ariinfo - ECPv5.1.0//NONSGML v1.0//EN
CALSCALE:GREGORIAN
METHOD:PUBLISH
X-WR-CALNAME:Ariinfo
X-ORIGINAL-URL:https://ariinfo.ee
X-WR-CALDESC:Events for Ariinfo
BEGIN:VTIMEZONE
TZID:Europe/Helsinki
BEGIN:DAYLIGHT
TZOFFSETFROM:+0200
TZOFFSETTO:+0300
TZNAME:EEST
DTSTART:20210328T010000
END:DAYLIGHT
BEGIN:STANDARD
TZOFFSETFROM:+0300
TZOFFSETTO:+0200
TZNAME:EET
DTSTART:20211031T010000
END:STANDARD
END:VTIMEZONE
BEGIN:VEVENT
DTSTART;TZID=Europe/Helsinki:20210218T100000
DTEND;TZID=Europe/Helsinki:20210218T170000
DTSTAMP:20260419T175514
CREATED:20210921T114036Z
LAST-MODIFIED:20241105T144034Z
UID:11505-1613642400-1613667600@ariinfo.ee
SUMMARY:Vesi pinnases. Drenaažisüsteemid. Projekteerimine. Arvutamine. Vead_
DESCRIPTION:
URL:https://ariinfo.ee/event/vesi-pinnases-drenaazisusteemid-projekteerimine-arvutamine-vead/
END:VEVENT
END:VCALENDAR