BEGIN:VCALENDAR
VERSION:2.0
PRODID:-//Ariinfo - ECPv5.1.0//NONSGML v1.0//EN
CALSCALE:GREGORIAN
METHOD:PUBLISH
X-WR-CALNAME:Ariinfo
X-ORIGINAL-URL:https://ariinfo.ee
X-WR-CALDESC:Events for Ariinfo
BEGIN:VTIMEZONE
TZID:Europe/Helsinki
BEGIN:DAYLIGHT
TZOFFSETFROM:+0200
TZOFFSETTO:+0300
TZNAME:EEST
DTSTART:20240331T010000
END:DAYLIGHT
BEGIN:STANDARD
TZOFFSETFROM:+0300
TZOFFSETTO:+0200
TZNAME:EET
DTSTART:20241027T010000
END:STANDARD
END:VTIMEZONE
BEGIN:VEVENT
DTSTART;TZID=Europe/Helsinki:20241024T110000
DTEND;TZID=Europe/Helsinki:20241024T151500
DTSTAMP:20260419T174930
CREATED:20240414T145944Z
LAST-MODIFIED:20241024T172712Z
UID:20199-1729767600-1729782900@ariinfo.ee
SUMMARY:Veeteenuse regulatsioon. Hinna arvutamine ja kooskõlastused
DESCRIPTION:
URL:https://ariinfo.ee/event/veeteenuse-hinnaregulatsioon-uus-uhisveevargi-ja-kanalisatsiooni-seadus-uvvks/
END:VEVENT
END:VCALENDAR