BEGIN:VCALENDAR
VERSION:2.0
PRODID:-//Ariinfo - ECPv5.1.0//NONSGML v1.0//EN
CALSCALE:GREGORIAN
METHOD:PUBLISH
X-WR-CALNAME:Ariinfo
X-ORIGINAL-URL:https://ariinfo.ee
X-WR-CALDESC:Events for Ariinfo
BEGIN:VTIMEZONE
TZID:Europe/Helsinki
BEGIN:DAYLIGHT
TZOFFSETFROM:+0200
TZOFFSETTO:+0300
TZNAME:EEST
DTSTART:20220327T010000
END:DAYLIGHT
BEGIN:STANDARD
TZOFFSETFROM:+0300
TZOFFSETTO:+0200
TZNAME:EET
DTSTART:20221030T010000
END:STANDARD
END:VTIMEZONE
BEGIN:VEVENT
DTSTART;TZID=Europe/Helsinki:20221213T100000
DTEND;TZID=Europe/Helsinki:20221213T170000
DTSTAMP:20260420T094549
CREATED:20221121T142925Z
LAST-MODIFIED:20240410T140012Z
UID:13691-1670925600-1670950800@ariinfo.ee
SUMMARY:Vundamendid pinnases: Omadused. Koormused. Deformatsioonid
DESCRIPTION:
URL:https://ariinfo.ee/event/veebiseminar-vundamendid-pinnases-omadused-koormused-deformatsioonid/
END:VEVENT
END:VCALENDAR