BEGIN:VCALENDAR
VERSION:2.0
PRODID:-//Ariinfo - ECPv5.1.0//NONSGML v1.0//EN
CALSCALE:GREGORIAN
METHOD:PUBLISH
X-WR-CALNAME:Ariinfo
X-ORIGINAL-URL:https://ariinfo.ee
X-WR-CALDESC:Events for Ariinfo
BEGIN:VTIMEZONE
TZID:Europe/Helsinki
BEGIN:DAYLIGHT
TZOFFSETFROM:+0200
TZOFFSETTO:+0300
TZNAME:EEST
DTSTART:20230326T010000
END:DAYLIGHT
BEGIN:STANDARD
TZOFFSETFROM:+0300
TZOFFSETTO:+0200
TZNAME:EET
DTSTART:20231029T010000
END:STANDARD
END:VTIMEZONE
BEGIN:VEVENT
DTSTART;TZID=Europe/Helsinki:20230329T100000
DTEND;TZID=Europe/Helsinki:20230329T170000
DTSTAMP:20260425T160902
CREATED:20230206T093438Z
LAST-MODIFIED:20240115T074605Z
UID:14606-1680084000-1680109200@ariinfo.ee
SUMMARY:Veebiseminar – Vundamendid pinnases: Omadused. Koormused. Deformatsioonid
DESCRIPTION:
URL:https://ariinfo.ee/event/veebiseminar-vundamendid-pinnases-omadused-koormused-deformatsioonid-2/
END:VEVENT
END:VCALENDAR