BEGIN:VCALENDAR
VERSION:2.0
PRODID:-//Ariinfo - ECPv5.1.0//NONSGML v1.0//EN
CALSCALE:GREGORIAN
METHOD:PUBLISH
X-WR-CALNAME:Ariinfo
X-ORIGINAL-URL:https://ariinfo.ee
X-WR-CALDESC:Events for Ariinfo
BEGIN:VTIMEZONE
TZID:Europe/Helsinki
BEGIN:DAYLIGHT
TZOFFSETFROM:+0200
TZOFFSETTO:+0300
TZNAME:EEST
DTSTART:20220327T010000
END:DAYLIGHT
BEGIN:STANDARD
TZOFFSETFROM:+0300
TZOFFSETTO:+0200
TZNAME:EET
DTSTART:20221030T010000
END:STANDARD
END:VTIMEZONE
BEGIN:VEVENT
DTSTART;TZID=Europe/Helsinki:20221212T100000
DTEND;TZID=Europe/Helsinki:20221212T170000
DTSTAMP:20260420T063022
CREATED:20221003T082847Z
LAST-MODIFIED:20240115T074607Z
UID:13519-1670839200-1670864400@ariinfo.ee
SUMMARY:Veebiseminar – Raudbetoonkonstruktsioonide kahjustused. Põhjused\, uuringud ja mõõtmised
DESCRIPTION:
URL:https://ariinfo.ee/event/veebiseminar-raudbetoonkonstruktsioonide-kahjustused-pohjused-uuringud-ja-mootmised-2/
END:VEVENT
END:VCALENDAR