BEGIN:VCALENDAR
VERSION:2.0
PRODID:-//Ariinfo - ECPv5.1.0//NONSGML v1.0//EN
CALSCALE:GREGORIAN
METHOD:PUBLISH
X-WR-CALNAME:Ariinfo
X-ORIGINAL-URL:https://ariinfo.ee
X-WR-CALDESC:Events for Ariinfo
BEGIN:VTIMEZONE
TZID:Europe/Helsinki
BEGIN:DAYLIGHT
TZOFFSETFROM:+0200
TZOFFSETTO:+0300
TZNAME:EEST
DTSTART:20200329T010000
END:DAYLIGHT
BEGIN:STANDARD
TZOFFSETFROM:+0300
TZOFFSETTO:+0200
TZNAME:EET
DTSTART:20201025T010000
END:STANDARD
END:VTIMEZONE
BEGIN:VEVENT
DTSTART;TZID=Europe/Helsinki:20201127T110000
DTEND;TZID=Europe/Helsinki:20201127T153000
DTSTAMP:20260419T153154
CREATED:20210514T131547Z
LAST-MODIFIED:20240223T120447Z
UID:10985-1606474800-1606491000@ariinfo.ee
SUMMARY:Veebiseminar – Erisused korterelamute projekteerimisel. Praktilised näpunäited
DESCRIPTION:
URL:https://ariinfo.ee/event/veebiseminar-erisused-korterelamute-projekteerimisel-praktilised-napunaited-2/
END:VEVENT
END:VCALENDAR