BEGIN:VCALENDAR
VERSION:2.0
PRODID:-//Ariinfo - ECPv5.1.0//NONSGML v1.0//EN
CALSCALE:GREGORIAN
METHOD:PUBLISH
X-WR-CALNAME:Ariinfo
X-ORIGINAL-URL:https://ariinfo.ee
X-WR-CALDESC:Events for Ariinfo
BEGIN:VTIMEZONE
TZID:Europe/Helsinki
BEGIN:DAYLIGHT
TZOFFSETFROM:+0200
TZOFFSETTO:+0300
TZNAME:EEST
DTSTART:20230326T010000
END:DAYLIGHT
BEGIN:STANDARD
TZOFFSETFROM:+0300
TZOFFSETTO:+0200
TZNAME:EET
DTSTART:20231029T010000
END:STANDARD
END:VTIMEZONE
BEGIN:VEVENT
DTSTART;TZID=Europe/Helsinki:20231027T120000
DTEND;TZID=Europe/Helsinki:20231027T153000
DTSTAMP:20260419T133418
CREATED:20230530T090957Z
LAST-MODIFIED:20240115T074603Z
UID:15359-1698408000-1698420600@ariinfo.ee
SUMMARY:Veebiseminar – Uus trend Eestis: ehitusjäätmete ja betooni taaskasutus
DESCRIPTION:
URL:https://ariinfo.ee/event/veebiseminar-ehitusjaatmete-ja-betooni-taaskasutus-tanapaeva-ja-tuleviku-voimalused-3/
END:VEVENT
END:VCALENDAR