BEGIN:VCALENDAR
VERSION:2.0
PRODID:-//Ariinfo - ECPv5.1.0//NONSGML v1.0//EN
CALSCALE:GREGORIAN
METHOD:PUBLISH
X-WR-CALNAME:Ariinfo
X-ORIGINAL-URL:https://ariinfo.ee
X-WR-CALDESC:Events for Ariinfo
BEGIN:VTIMEZONE
TZID:Europe/Helsinki
BEGIN:DAYLIGHT
TZOFFSETFROM:+0200
TZOFFSETTO:+0300
TZNAME:EEST
DTSTART:20190331T010000
END:DAYLIGHT
BEGIN:STANDARD
TZOFFSETFROM:+0300
TZOFFSETTO:+0200
TZNAME:EET
DTSTART:20191027T010000
END:STANDARD
END:VTIMEZONE
BEGIN:VEVENT
DTSTART;TZID=Europe/Helsinki:20191022T110000
DTEND;TZID=Europe/Helsinki:20191022T153000
DTSTAMP:20260419T135940
CREATED:20210921T114126Z
LAST-MODIFIED:20240718T062410Z
UID:11649-1571742000-1571758200@ariinfo.ee
SUMMARY:Välisvõrgud. Kaasaegsed isevoolsed torustikud
DESCRIPTION:
URL:https://ariinfo.ee/event/valisvorgud-kaasaegsed-isevoolsed-torustikud-2/
END:VEVENT
END:VCALENDAR