BEGIN:VCALENDAR
VERSION:2.0
PRODID:-//Ariinfo - ECPv5.1.0//NONSGML v1.0//EN
CALSCALE:GREGORIAN
METHOD:PUBLISH
X-WR-CALNAME:Ariinfo
X-ORIGINAL-URL:https://ariinfo.ee
X-WR-CALDESC:Events for Ariinfo
BEGIN:VTIMEZONE
TZID:Europe/Helsinki
BEGIN:DAYLIGHT
TZOFFSETFROM:+0200
TZOFFSETTO:+0300
TZNAME:EEST
DTSTART:20240331T010000
END:DAYLIGHT
BEGIN:STANDARD
TZOFFSETFROM:+0300
TZOFFSETTO:+0200
TZNAME:EET
DTSTART:20241027T010000
END:STANDARD
END:VTIMEZONE
BEGIN:VEVENT
DTSTART;TZID=Europe/Helsinki:20241017T110000
DTEND;TZID=Europe/Helsinki:20241017T171500
DTSTAMP:20260419T175103
CREATED:20240912T130343Z
LAST-MODIFIED:20240917T234318Z
UID:22971-1729162800-1729185300@ariinfo.ee
SUMMARY:Torustike paigaldamine ja renoveerimine. NoDig (kaevikuta) tehnoloogia
DESCRIPTION:
URL:https://ariinfo.ee/event/torustike-kaasaegsed-paigaldamise-ja-renoveerimise-tehnoloogiad-2/
END:VEVENT
END:VCALENDAR