BEGIN:VCALENDAR
VERSION:2.0
PRODID:-//Ariinfo - ECPv5.1.0//NONSGML v1.0//EN
CALSCALE:GREGORIAN
METHOD:PUBLISH
X-WR-CALNAME:Ariinfo
X-ORIGINAL-URL:https://ariinfo.ee
X-WR-CALDESC:Events for Ariinfo
BEGIN:VTIMEZONE
TZID:Europe/Helsinki
BEGIN:DAYLIGHT
TZOFFSETFROM:+0200
TZOFFSETTO:+0300
TZNAME:EEST
DTSTART:20200329T010000
END:DAYLIGHT
BEGIN:STANDARD
TZOFFSETFROM:+0300
TZOFFSETTO:+0200
TZNAME:EET
DTSTART:20201025T010000
END:STANDARD
END:VTIMEZONE
BEGIN:VEVENT
DTSTART;TZID=Europe/Helsinki:20201105T110000
DTEND;TZID=Europe/Helsinki:20201105T163000
DTSTAMP:20260420T033040
CREATED:20210921T114057Z
LAST-MODIFIED:20240223T114856Z
UID:11562-1604574000-1604593800@ariinfo.ee
SUMMARY:Tehnosüsteemide juhtimine ja automaatika. Targad lahendused ja skeemid
DESCRIPTION:
URL:https://ariinfo.ee/event/tehnosusteemide-juhtimine-ja-automaatika-targad-lahendused-ja-skeemid-3/
END:VEVENT
END:VCALENDAR