BEGIN:VCALENDAR
VERSION:2.0
PRODID:-//Ariinfo - ECPv5.1.0//NONSGML v1.0//EN
CALSCALE:GREGORIAN
METHOD:PUBLISH
X-WR-CALNAME:Ariinfo
X-ORIGINAL-URL:https://ariinfo.ee
X-WR-CALDESC:Events for Ariinfo
BEGIN:VTIMEZONE
TZID:Europe/Helsinki
BEGIN:DAYLIGHT
TZOFFSETFROM:+0200
TZOFFSETTO:+0300
TZNAME:EEST
DTSTART:20260329T010000
END:DAYLIGHT
BEGIN:STANDARD
TZOFFSETFROM:+0300
TZOFFSETTO:+0200
TZNAME:EET
DTSTART:20261025T010000
END:STANDARD
END:VTIMEZONE
BEGIN:VEVENT
DTSTART;TZID=Europe/Helsinki:20260420T110000
DTEND;TZID=Europe/Helsinki:20260420T160000
DTSTAMP:20260420T135533
CREATED:20210514T125605Z
LAST-MODIFIED:20241214T225520Z
UID:10972-1776682800-1776700800@ariinfo.ee
SUMMARY:Tee remondilahendused. Tolmuvaba kated.
DESCRIPTION:
URL:https://ariinfo.ee/event/tee-remondilahendused-seisukorrauuringud-remondimetoodikad-tolmuvaba-kated-2/
END:VEVENT
END:VCALENDAR