BEGIN:VCALENDAR
VERSION:2.0
PRODID:-//Ariinfo - ECPv5.1.0//NONSGML v1.0//EN
CALSCALE:GREGORIAN
METHOD:PUBLISH
X-WR-CALNAME:Ariinfo
X-ORIGINAL-URL:https://ariinfo.ee
X-WR-CALDESC:Events for Ariinfo
BEGIN:VTIMEZONE
TZID:Europe/Helsinki
BEGIN:DAYLIGHT
TZOFFSETFROM:+0200
TZOFFSETTO:+0300
TZNAME:EEST
DTSTART:20220327T010000
END:DAYLIGHT
BEGIN:STANDARD
TZOFFSETFROM:+0300
TZOFFSETTO:+0200
TZNAME:EET
DTSTART:20221030T010000
END:STANDARD
END:VTIMEZONE
BEGIN:VEVENT
DTSTART;TZID=Europe/Helsinki:20221206T110000
DTEND;TZID=Europe/Helsinki:20221206T153000
DTSTAMP:20260419T220655
CREATED:20221031T122832Z
LAST-MODIFIED:20240115T074606Z
UID:13632-1670324400-1670340600@ariinfo.ee
SUMMARY:Sisekliima tagamise süsteemide müra. Müra tekke peamised põhjused\, levik ja mida teha müra vähendamiseks
DESCRIPTION:
URL:https://ariinfo.ee/event/sisekliima-tagamise-susteemide-mura-mura-tekke-peamised-pohjused-levik-ja-mida-teha-mura-vahendamiseks/
END:VEVENT
END:VCALENDAR