BEGIN:VCALENDAR
VERSION:2.0
PRODID:-//Ariinfo - ECPv5.1.0//NONSGML v1.0//EN
CALSCALE:GREGORIAN
METHOD:PUBLISH
X-WR-CALNAME:Ariinfo
X-ORIGINAL-URL:https://ariinfo.ee
X-WR-CALDESC:Events for Ariinfo
BEGIN:VTIMEZONE
TZID:Europe/Helsinki
BEGIN:DAYLIGHT
TZOFFSETFROM:+0200
TZOFFSETTO:+0300
TZNAME:EEST
DTSTART:20210328T010000
END:DAYLIGHT
BEGIN:STANDARD
TZOFFSETFROM:+0300
TZOFFSETTO:+0200
TZNAME:EET
DTSTART:20211031T010000
END:STANDARD
END:VTIMEZONE
BEGIN:VEVENT
DTSTART;TZID=Europe/Helsinki:20210209T100000
DTEND;TZID=Europe/Helsinki:20210209T170000
DTSTAMP:20260419T123922
CREATED:20210921T114036Z
LAST-MODIFIED:20240115T074617Z
UID:11506-1612864800-1612890000@ariinfo.ee
SUMMARY:Sademeveesüsteemid ja pinnavee käitlemine. Insener-tehnilised lahendused
DESCRIPTION:
URL:https://ariinfo.ee/event/sademeveesusteemid-ja-pinnavee-kaitlemine-insener-tehnilised-lahendused-2/
END:VEVENT
END:VCALENDAR