BEGIN:VCALENDAR
VERSION:2.0
PRODID:-//Ariinfo - ECPv5.1.0//NONSGML v1.0//EN
CALSCALE:GREGORIAN
METHOD:PUBLISH
X-WR-CALNAME:Ariinfo
X-ORIGINAL-URL:https://ariinfo.ee
X-WR-CALDESC:Events for Ariinfo
BEGIN:VTIMEZONE
TZID:Europe/Helsinki
BEGIN:DAYLIGHT
TZOFFSETFROM:+0200
TZOFFSETTO:+0300
TZNAME:EEST
DTSTART:20210328T010000
END:DAYLIGHT
BEGIN:STANDARD
TZOFFSETFROM:+0300
TZOFFSETTO:+0200
TZNAME:EET
DTSTART:20211031T010000
END:STANDARD
END:VTIMEZONE
BEGIN:VEVENT
DTSTART;TZID=Europe/Helsinki:20210309T110000
DTEND;TZID=Europe/Helsinki:20210309T163000
DTSTAMP:20260419T225847
CREATED:20210212T131730Z
LAST-MODIFIED:20240312T013753Z
UID:10129-1615287600-1615307400@ariinfo.ee
SUMMARY:Raudbetoon-suurpaneelelamute piirdetarindid. Renoveerimisvajadus\, lahendused ja toimivus. Ehitustehnilised probleemid ja võimalused
DESCRIPTION:
URL:https://ariinfo.ee/event/raudbetoon-suurpaneelelamute-piirdetarindite-renoveerimisvajadus-lahendused-ja-toimivus-ehitustehnilised-probleemid-ja-voimalused/
END:VEVENT
END:VCALENDAR