BEGIN:VCALENDAR
VERSION:2.0
PRODID:-//Ariinfo - ECPv5.1.0//NONSGML v1.0//EN
CALSCALE:GREGORIAN
METHOD:PUBLISH
X-WR-CALNAME:Ariinfo
X-ORIGINAL-URL:https://ariinfo.ee
X-WR-CALDESC:Events for Ariinfo
BEGIN:VTIMEZONE
TZID:Europe/Helsinki
BEGIN:DAYLIGHT
TZOFFSETFROM:+0200
TZOFFSETTO:+0300
TZNAME:EEST
DTSTART:20240331T010000
END:DAYLIGHT
BEGIN:STANDARD
TZOFFSETFROM:+0300
TZOFFSETTO:+0200
TZNAME:EET
DTSTART:20241027T010000
END:STANDARD
END:VTIMEZONE
BEGIN:VEVENT
DTSTART;TZID=Europe/Helsinki:20240403T110000
DTEND;TZID=Europe/Helsinki:20240403T153000
DTSTAMP:20260422T123908
CREATED:20240229T093206Z
LAST-MODIFIED:20240326T105957Z
UID:18830-1712142000-1712158200@ariinfo.ee
SUMMARY:Puitkonstruktsioonid. Projekteerimise ja arvutamise reeglid
DESCRIPTION:
URL:https://ariinfo.ee/event/puitkonstruktsioonid-projekteerimise-ja-arvutamise-reeglid-2/
END:VEVENT
END:VCALENDAR