BEGIN:VCALENDAR
VERSION:2.0
PRODID:-//Ariinfo - ECPv5.1.0//NONSGML v1.0//EN
CALSCALE:GREGORIAN
METHOD:PUBLISH
X-WR-CALNAME:Ariinfo
X-ORIGINAL-URL:https://ariinfo.ee
X-WR-CALDESC:Events for Ariinfo
BEGIN:VTIMEZONE
TZID:Europe/Moscow
BEGIN:STANDARD
TZOFFSETFROM:+0300
TZOFFSETTO:+0300
TZNAME:MSK
DTSTART:20200101T000000
END:STANDARD
END:VTIMEZONE
BEGIN:VEVENT
DTSTART;TZID=Europe/Moscow:20201120T100000
DTEND;TZID=Europe/Moscow:20201120T170000
DTSTAMP:20260419T170118
CREATED:20201001T141303Z
LAST-MODIFIED:20240223T121307Z
UID:8995-1605866400-1605891600@ariinfo.ee
SUMMARY:Päikeseelektrisüsteemide planeerimine ja diagnostika
DESCRIPTION:
URL:https://ariinfo.ee/event/paikeseelektrisusteemide-planeerimine-ja-diagnostika/
LOCATION:Ariinfo\, Peterburi tee 90f\, Tallinn
END:VEVENT
END:VCALENDAR