BEGIN:VCALENDAR
VERSION:2.0
PRODID:-//Ariinfo - ECPv5.1.0//NONSGML v1.0//EN
CALSCALE:GREGORIAN
METHOD:PUBLISH
X-WR-CALNAME:Ariinfo
X-ORIGINAL-URL:https://ariinfo.ee
X-WR-CALDESC:Events for Ariinfo
BEGIN:VTIMEZONE
TZID:Europe/Helsinki
BEGIN:DAYLIGHT
TZOFFSETFROM:+0200
TZOFFSETTO:+0300
TZNAME:EEST
DTSTART:20220327T010000
END:DAYLIGHT
BEGIN:STANDARD
TZOFFSETFROM:+0300
TZOFFSETTO:+0200
TZNAME:EET
DTSTART:20221030T010000
END:STANDARD
END:VTIMEZONE
BEGIN:VEVENT
DTSTART;TZID=Europe/Helsinki:20221212T000000
DTEND;TZID=Europe/Helsinki:20221212T000000
DTSTAMP:20260420T044305
CREATED:20221003T084003Z
LAST-MODIFIED:20260417T205901Z
UID:13526-1670803200-1670803200@ariinfo.ee
SUMMARY:LOENGUSARI — Raudbetoonkonstruktsioonid. Kahjustused ja praod
DESCRIPTION:
URL:https://ariinfo.ee/event/loengusari-raudbetoonkonstruktsioonid-kahjustused-ja-praod-3/
END:VEVENT
END:VCALENDAR