BEGIN:VCALENDAR
VERSION:2.0
PRODID:-//Ariinfo - ECPv5.1.0//NONSGML v1.0//EN
CALSCALE:GREGORIAN
METHOD:PUBLISH
X-WR-CALNAME:Ariinfo
X-ORIGINAL-URL:https://ariinfo.ee
X-WR-CALDESC:Events for Ariinfo
BEGIN:VTIMEZONE
TZID:Europe/Moscow
BEGIN:STANDARD
TZOFFSETFROM:+0300
TZOFFSETTO:+0300
TZNAME:MSK
DTSTART:20260101T000000
END:STANDARD
END:VTIMEZONE
BEGIN:VEVENT
DTSTART;TZID=Europe/Moscow:20260421T111644
DTEND;TZID=Europe/Moscow:20260421T111644
DTSTAMP:20260421T111644
CREATED:20201002T122342Z
LAST-MODIFIED:20260417T205902Z
UID:9009-1776770204-1776770204@ariinfo.ee
SUMMARY:LOENGUSARI - Pingebetoon- ja monteeritavad raudbetoonkonstruktsioonid
DESCRIPTION:
URL:https://ariinfo.ee/event/loengusari-pingebetoonkonstruktsioonid-ja-monteeritavad-raudbetoonkonstruktsioonid/
LOCATION:Ariinfo\, Peterburi tee 90f\, Tallinn
END:VEVENT
END:VCALENDAR