BEGIN:VCALENDAR
VERSION:2.0
PRODID:-//Ariinfo - ECPv5.1.0//NONSGML v1.0//EN
CALSCALE:GREGORIAN
METHOD:PUBLISH
X-WR-CALNAME:Ariinfo
X-ORIGINAL-URL:https://ariinfo.ee
X-WR-CALDESC:Events for Ariinfo
BEGIN:VTIMEZONE
TZID:Europe/Helsinki
BEGIN:DAYLIGHT
TZOFFSETFROM:+0200
TZOFFSETTO:+0300
TZNAME:EEST
DTSTART:20220327T010000
END:DAYLIGHT
BEGIN:STANDARD
TZOFFSETFROM:+0300
TZOFFSETTO:+0200
TZNAME:EET
DTSTART:20221030T010000
END:STANDARD
END:VTIMEZONE
BEGIN:VEVENT
DTSTART;TZID=Europe/Helsinki:20221208T110000
DTEND;TZID=Europe/Helsinki:20221208T143000
DTSTAMP:20260420T012350
CREATED:20221019T100854Z
LAST-MODIFIED:20240410T140012Z
UID:13575-1670497200-1670509800@ariinfo.ee
SUMMARY:Kiirgusohutuse täiendkoolitus meditsiini röntgenseadme kasutajale (keskkonnaministri määrus nr. 57)
DESCRIPTION:
URL:https://ariinfo.ee/event/kiirgusohutuse-taiendkoolitus-meditsiini-rontgenseadme-kasutajale-keskkonnaministri-maarus-nr-57/
END:VEVENT
END:VCALENDAR