BEGIN:VCALENDAR
VERSION:2.0
PRODID:-//Ariinfo - ECPv5.1.0//NONSGML v1.0//EN
CALSCALE:GREGORIAN
METHOD:PUBLISH
X-WR-CALNAME:Ariinfo
X-ORIGINAL-URL:https://ariinfo.ee
X-WR-CALDESC:Events for Ariinfo
BEGIN:VTIMEZONE
TZID:Europe/Helsinki
BEGIN:DAYLIGHT
TZOFFSETFROM:+0200
TZOFFSETTO:+0300
TZNAME:EEST
DTSTART:20240331T010000
END:DAYLIGHT
BEGIN:STANDARD
TZOFFSETFROM:+0300
TZOFFSETTO:+0200
TZNAME:EET
DTSTART:20241027T010000
END:STANDARD
END:VTIMEZONE
BEGIN:VEVENT
DTSTART;TZID=Europe/Helsinki:20240621T110000
DTEND;TZID=Europe/Helsinki:20240621T143000
DTSTAMP:20260421T141738
CREATED:20240416T120442Z
LAST-MODIFIED:20240617T085521Z
UID:20229-1718967600-1718980200@ariinfo.ee
SUMMARY:Kiirgusohutuse täiendkoolitus
DESCRIPTION:
URL:https://ariinfo.ee/event/kiirgusohutuse-taiendkoolitus-meditsiini-rontgenseadme-kasutajale-3/
END:VEVENT
END:VCALENDAR