BEGIN:VCALENDAR
VERSION:2.0
PRODID:-//Ariinfo - ECPv5.1.0//NONSGML v1.0//EN
CALSCALE:GREGORIAN
METHOD:PUBLISH
X-WR-CALNAME:Ariinfo
X-ORIGINAL-URL:https://ariinfo.ee
X-WR-CALDESC:Events for Ariinfo
BEGIN:VTIMEZONE
TZID:Europe/Helsinki
BEGIN:DAYLIGHT
TZOFFSETFROM:+0200
TZOFFSETTO:+0300
TZNAME:EEST
DTSTART:20220327T010000
END:DAYLIGHT
BEGIN:STANDARD
TZOFFSETFROM:+0300
TZOFFSETTO:+0200
TZNAME:EET
DTSTART:20221030T010000
END:STANDARD
END:VTIMEZONE
BEGIN:VEVENT
DTSTART;TZID=Europe/Helsinki:20221118T110000
DTEND;TZID=Europe/Helsinki:20221118T153000
DTSTAMP:20260419T151340
CREATED:20221007T125620Z
LAST-MODIFIED:20240410T140012Z
UID:13541-1668769200-1668785400@ariinfo.ee
SUMMARY:Kiirgusohutusalane esmane koolitus (keskkonnaministri määrus nr. 57)
DESCRIPTION:
URL:https://ariinfo.ee/event/kiirgusohutusalane-esmane-koolitus-keskkonnaministri-maarus-nr-57-5/
END:VEVENT
END:VCALENDAR