BEGIN:VCALENDAR
VERSION:2.0
PRODID:-//Ariinfo - ECPv5.1.0//NONSGML v1.0//EN
CALSCALE:GREGORIAN
METHOD:PUBLISH
X-WR-CALNAME:Ariinfo
X-ORIGINAL-URL:https://ariinfo.ee
X-WR-CALDESC:Events for Ariinfo
BEGIN:VTIMEZONE
TZID:Europe/Helsinki
BEGIN:DAYLIGHT
TZOFFSETFROM:+0200
TZOFFSETTO:+0300
TZNAME:EEST
DTSTART:20240331T010000
END:DAYLIGHT
BEGIN:STANDARD
TZOFFSETFROM:+0300
TZOFFSETTO:+0200
TZNAME:EET
DTSTART:20241027T010000
END:STANDARD
END:VTIMEZONE
BEGIN:VEVENT
DTSTART;TZID=Europe/Helsinki:20240607T103000
DTEND;TZID=Europe/Helsinki:20240607T150000
DTSTAMP:20260421T200846
CREATED:20240415T131837Z
LAST-MODIFIED:20240528T094041Z
UID:20213-1717756200-1717772400@ariinfo.ee
SUMMARY:Kiirgusohutusalane esmane koolitus
DESCRIPTION:
URL:https://ariinfo.ee/event/kiirgusohutusalane-esmane-koolitus-3/
END:VEVENT
END:VCALENDAR