BEGIN:VCALENDAR
VERSION:2.0
PRODID:-//Ariinfo - ECPv5.1.0//NONSGML v1.0//EN
CALSCALE:GREGORIAN
METHOD:PUBLISH
X-WR-CALNAME:Ariinfo
X-ORIGINAL-URL:https://ariinfo.ee
X-WR-CALDESC:Events for Ariinfo
BEGIN:VTIMEZONE
TZID:Europe/Helsinki
BEGIN:DAYLIGHT
TZOFFSETFROM:+0200
TZOFFSETTO:+0300
TZNAME:EEST
DTSTART:20210328T010000
END:DAYLIGHT
BEGIN:STANDARD
TZOFFSETFROM:+0300
TZOFFSETTO:+0200
TZNAME:EET
DTSTART:20211031T010000
END:STANDARD
END:VTIMEZONE
BEGIN:VEVENT
DTSTART;TZID=Europe/Helsinki:20210302T110000
DTEND;TZID=Europe/Helsinki:20210302T153000
DTSTAMP:20260419T212300
CREATED:20210126T092622Z
LAST-MODIFIED:20240223T124723Z
UID:9931-1614682800-1614699000@ariinfo.ee
SUMMARY:Veebiseminar – Kaugküttetorustike kavandamine. Projekteerimise ja paigaldamise kuldsed reeglid
DESCRIPTION:
URL:https://ariinfo.ee/event/kaugkuttetorustike-kavandamine-projekteerimise-ja-paigaldamise-kuldsed-reeglid/
END:VEVENT
END:VCALENDAR