BEGIN:VCALENDAR
VERSION:2.0
PRODID:-//Ariinfo - ECPv5.1.0//NONSGML v1.0//EN
CALSCALE:GREGORIAN
METHOD:PUBLISH
X-WR-CALNAME:Ariinfo
X-ORIGINAL-URL:https://ariinfo.ee
X-WR-CALDESC:Events for Ariinfo
BEGIN:VTIMEZONE
TZID:Europe/Helsinki
BEGIN:DAYLIGHT
TZOFFSETFROM:+0200
TZOFFSETTO:+0300
TZNAME:EEST
DTSTART:20210328T010000
END:DAYLIGHT
BEGIN:STANDARD
TZOFFSETFROM:+0300
TZOFFSETTO:+0200
TZNAME:EET
DTSTART:20211031T010000
END:STANDARD
END:VTIMEZONE
BEGIN:VEVENT
DTSTART;TZID=Europe/Helsinki:20210526T110000
DTEND;TZID=Europe/Helsinki:20210526T153000
DTSTAMP:20260425T174839
CREATED:20210423T134038Z
LAST-MODIFIED:20240115T074614Z
UID:10793-1622026800-1622043000@ariinfo.ee
SUMMARY:Kaldkatuste tehnoloogiad. Aluskatuse ehitus
DESCRIPTION:
URL:https://ariinfo.ee/event/kaldkatuste-tehnoloogiad-aluskatusehitus/
END:VEVENT
END:VCALENDAR