BEGIN:VCALENDAR
VERSION:2.0
PRODID:-//Ariinfo - ECPv5.1.0//NONSGML v1.0//EN
CALSCALE:GREGORIAN
METHOD:PUBLISH
X-WR-CALNAME:Ariinfo
X-ORIGINAL-URL:https://ariinfo.ee
X-WR-CALDESC:Events for Ariinfo
BEGIN:VTIMEZONE
TZID:Europe/Helsinki
BEGIN:DAYLIGHT
TZOFFSETFROM:+0200
TZOFFSETTO:+0300
TZNAME:EEST
DTSTART:20230326T010000
END:DAYLIGHT
BEGIN:STANDARD
TZOFFSETFROM:+0300
TZOFFSETTO:+0200
TZNAME:EET
DTSTART:20231029T010000
END:STANDARD
END:VTIMEZONE
BEGIN:VEVENT
DTSTART;TZID=Europe/Helsinki:20230412T110000
DTEND;TZID=Europe/Helsinki:20230412T161500
DTSTAMP:20260426T002023
CREATED:20230324T094441Z
LAST-MODIFIED:20240115T074604Z
UID:14947-1681297200-1681316100@ariinfo.ee
SUMMARY:Kaasaegsed rõhuvahesüsteemid/ülerõhk. Uus standard  EVS EN 12101-13:2022 ja arvutused
DESCRIPTION:
URL:https://ariinfo.ee/event/kaasaegsed-rohuvahesusteemid-ulerohk-uus-standard-evs-en-12101-132022-ja-arvutused/
END:VEVENT
END:VCALENDAR