BEGIN:VCALENDAR
VERSION:2.0
PRODID:-//Ariinfo - ECPv5.1.0//NONSGML v1.0//EN
CALSCALE:GREGORIAN
METHOD:PUBLISH
X-WR-CALNAME:Ariinfo
X-ORIGINAL-URL:https://ariinfo.ee
X-WR-CALDESC:Events for Ariinfo
BEGIN:VTIMEZONE
TZID:Europe/Helsinki
BEGIN:DAYLIGHT
TZOFFSETFROM:+0200
TZOFFSETTO:+0300
TZNAME:EEST
DTSTART:20200329T010000
END:DAYLIGHT
BEGIN:STANDARD
TZOFFSETFROM:+0300
TZOFFSETTO:+0200
TZNAME:EET
DTSTART:20201025T010000
END:STANDARD
END:VTIMEZONE
BEGIN:VEVENT
DTSTART;TZID=Europe/Helsinki:20201002T100000
DTEND;TZID=Europe/Helsinki:20201002T164500
DTSTAMP:20260421T095017
CREATED:20210921T114051Z
LAST-MODIFIED:20240115T074620Z
UID:11544-1601632800-1601657100@ariinfo.ee
SUMMARY:Hoonesisesed tarbeveesüsteemid. Tehnilised lahendused ehitamisel
DESCRIPTION:
URL:https://ariinfo.ee/event/hoonesisesed-tarbeveesusteemid-tehnilised-lahendused-ehitamisel/
END:VEVENT
END:VCALENDAR