BEGIN:VCALENDAR
VERSION:2.0
PRODID:-//Ariinfo - ECPv5.1.0//NONSGML v1.0//EN
CALSCALE:GREGORIAN
METHOD:PUBLISH
X-WR-CALNAME:Ariinfo
X-ORIGINAL-URL:https://ariinfo.ee
X-WR-CALDESC:Events for Ariinfo
BEGIN:VTIMEZONE
TZID:Europe/Helsinki
BEGIN:DAYLIGHT
TZOFFSETFROM:+0200
TZOFFSETTO:+0300
TZNAME:EEST
DTSTART:20190331T010000
END:DAYLIGHT
BEGIN:STANDARD
TZOFFSETFROM:+0300
TZOFFSETTO:+0200
TZNAME:EET
DTSTART:20191027T010000
END:STANDARD
END:VTIMEZONE
BEGIN:VEVENT
DTSTART;TZID=Europe/Helsinki:20191113T100000
DTEND;TZID=Europe/Helsinki:20191113T164500
DTSTAMP:20260420T010918
CREATED:20210921T114122Z
LAST-MODIFIED:20240115T074626Z
UID:11637-1573639200-1573663500@ariinfo.ee
SUMMARY:Hoonesisesed tarbeveesüsteemid. Tehnilised lahendused ehitamisel
DESCRIPTION:
URL:https://ariinfo.ee/event/hoonesisesed-tarbeveesusteemid-tehnilised-lahendused-ehitamisel-2/
END:VEVENT
END:VCALENDAR