BEGIN:VCALENDAR
VERSION:2.0
PRODID:-//Ariinfo - ECPv5.1.0//NONSGML v1.0//EN
CALSCALE:GREGORIAN
METHOD:PUBLISH
X-WR-CALNAME:Ariinfo
X-ORIGINAL-URL:https://ariinfo.ee
X-WR-CALDESC:Events for Ariinfo
BEGIN:VTIMEZONE
TZID:Europe/Helsinki
BEGIN:DAYLIGHT
TZOFFSETFROM:+0200
TZOFFSETTO:+0300
TZNAME:EEST
DTSTART:20230326T010000
END:DAYLIGHT
BEGIN:STANDARD
TZOFFSETFROM:+0300
TZOFFSETTO:+0200
TZNAME:EET
DTSTART:20231029T010000
END:STANDARD
END:VTIMEZONE
BEGIN:VEVENT
DTSTART;TZID=Europe/Helsinki:20230404T150000
DTEND;TZID=Europe/Helsinki:20230404T173000
DTSTAMP:20260425T173324
CREATED:20230206T110914Z
LAST-MODIFIED:20240115T074605Z
UID:14621-1680620400-1680629400@ariinfo.ee
SUMMARY:Ettevõtete energia ja ressursiauditid ning suurettevõtete energiaauditid
DESCRIPTION:
URL:https://ariinfo.ee/event/ettevotete-energia-ja-ressursiauditid-ning-suurettevotete-energiaauditid/
END:VEVENT
END:VCALENDAR