BEGIN:VCALENDAR
VERSION:2.0
PRODID:-//Ariinfo - ECPv5.1.0//NONSGML v1.0//EN
CALSCALE:GREGORIAN
METHOD:PUBLISH
X-WR-CALNAME:Ariinfo
X-ORIGINAL-URL:https://ariinfo.ee
X-WR-CALDESC:Events for Ariinfo
BEGIN:VTIMEZONE
TZID:Europe/Helsinki
BEGIN:DAYLIGHT
TZOFFSETFROM:+0200
TZOFFSETTO:+0300
TZNAME:EEST
DTSTART:20240331T010000
END:DAYLIGHT
BEGIN:STANDARD
TZOFFSETFROM:+0300
TZOFFSETTO:+0200
TZNAME:EET
DTSTART:20241027T010000
END:STANDARD
END:VTIMEZONE
BEGIN:VEVENT
DTSTART;TZID=Europe/Helsinki:20241001T100000
DTEND;TZID=Europe/Helsinki:20241001T160000
DTSTAMP:20260419T123856
CREATED:20240710T225449Z
LAST-MODIFIED:20250520T193011Z
UID:22045-1727776800-1727798400@ariinfo.ee
SUMMARY:Ventilatsioonisüsteemid energiatõhusa hoone uute nõuete tagamiseks
DESCRIPTION:
URL:https://ariinfo.ee/event/energiatohus-hoone-2025-ventilatsioonisusteemid/
END:VEVENT
END:VCALENDAR