BEGIN:VCALENDAR
VERSION:2.0
PRODID:-//Ariinfo - ECPv5.1.0//NONSGML v1.0//EN
CALSCALE:GREGORIAN
METHOD:PUBLISH
X-WR-CALNAME:Ariinfo
X-ORIGINAL-URL:https://ariinfo.ee
X-WR-CALDESC:Events for Ariinfo
BEGIN:VTIMEZONE
TZID:Europe/Helsinki
BEGIN:DAYLIGHT
TZOFFSETFROM:+0200
TZOFFSETTO:+0300
TZNAME:EEST
DTSTART:20260329T010000
END:DAYLIGHT
BEGIN:STANDARD
TZOFFSETFROM:+0300
TZOFFSETTO:+0200
TZNAME:EET
DTSTART:20261025T010000
END:STANDARD
END:VTIMEZONE
BEGIN:VEVENT
DTSTART;TZID=Europe/Helsinki:20260522T100000
DTEND;TZID=Europe/Helsinki:20260522T170000
DTSTAMP:20260425T163752
CREATED:20240216T112106Z
LAST-MODIFIED:20260419T215632Z
UID:18261-1779444000-1779469200@ariinfo.ee
SUMMARY:Elektripaigaldise käit ja käidukava. Töötame standardi alusel
DESCRIPTION:
URL:https://ariinfo.ee/event/elektripaigaldise-kait-standardi-evs-en-50110-12023-uuenenud-nouded/
END:VEVENT
END:VCALENDAR