BEGIN:VCALENDAR
VERSION:2.0
PRODID:-//Ariinfo - ECPv5.1.0//NONSGML v1.0//EN
CALSCALE:GREGORIAN
METHOD:PUBLISH
X-WR-CALNAME:Ariinfo
X-ORIGINAL-URL:https://ariinfo.ee
X-WR-CALDESC:Events for Ariinfo
BEGIN:VTIMEZONE
TZID:Europe/Helsinki
BEGIN:DAYLIGHT
TZOFFSETFROM:+0200
TZOFFSETTO:+0300
TZNAME:EEST
DTSTART:20210328T010000
END:DAYLIGHT
BEGIN:STANDARD
TZOFFSETFROM:+0300
TZOFFSETTO:+0200
TZNAME:EET
DTSTART:20211031T010000
END:STANDARD
END:VTIMEZONE
BEGIN:VEVENT
DTSTART;TZID=Europe/Helsinki:20210824T110000
DTEND;TZID=Europe/Helsinki:20210824T164500
DTSTAMP:20260425T182452
CREATED:20210727T122049Z
LAST-MODIFIED:20240115T074613Z
UID:11260-1629802800-1629823500@ariinfo.ee
SUMMARY:Ehitusprojekti ekspertiis ja omanikujärelevalve. Praktilised näited
DESCRIPTION:
URL:https://ariinfo.ee/event/ehitusprojekti-ekspertiis-ja-omanikujarelevalve-praktilised-naited/
END:VEVENT
END:VCALENDAR